BEGIN:VCALENDAR
VERSION:2.0
PRODID:-//Second Congregational Church of Winsted - ECPv6.15.3//NONSGML v1.0//EN
CALSCALE:GREGORIAN
METHOD:PUBLISH
X-WR-CALNAME:Second Congregational Church of Winsted
X-ORIGINAL-URL:https://sccwinsted.org
X-WR-CALDESC:Events for Second Congregational Church of Winsted
REFRESH-INTERVAL;VALUE=DURATION:PT1H
X-Robots-Tag:noindex
X-PUBLISHED-TTL:PT1H
BEGIN:VTIMEZONE
TZID:America/New_York
BEGIN:DAYLIGHT
TZOFFSETFROM:-0500
TZOFFSETTO:-0400
TZNAME:EDT
DTSTART:20190310T070000
END:DAYLIGHT
BEGIN:STANDARD
TZOFFSETFROM:-0400
TZOFFSETTO:-0500
TZNAME:EST
DTSTART:20191103T060000
END:STANDARD
BEGIN:DAYLIGHT
TZOFFSETFROM:-0500
TZOFFSETTO:-0400
TZNAME:EDT
DTSTART:20200308T070000
END:DAYLIGHT
BEGIN:STANDARD
TZOFFSETFROM:-0400
TZOFFSETTO:-0500
TZNAME:EST
DTSTART:20201101T060000
END:STANDARD
BEGIN:DAYLIGHT
TZOFFSETFROM:-0500
TZOFFSETTO:-0400
TZNAME:EDT
DTSTART:20210314T070000
END:DAYLIGHT
BEGIN:STANDARD
TZOFFSETFROM:-0400
TZOFFSETTO:-0500
TZNAME:EST
DTSTART:20211107T060000
END:STANDARD
BEGIN:DAYLIGHT
TZOFFSETFROM:-0500
TZOFFSETTO:-0400
TZNAME:EDT
DTSTART:20220313T070000
END:DAYLIGHT
BEGIN:STANDARD
TZOFFSETFROM:-0400
TZOFFSETTO:-0500
TZNAME:EST
DTSTART:20221106T060000
END:STANDARD
BEGIN:DAYLIGHT
TZOFFSETFROM:-0500
TZOFFSETTO:-0400
TZNAME:EDT
DTSTART:20230312T070000
END:DAYLIGHT
BEGIN:STANDARD
TZOFFSETFROM:-0400
TZOFFSETTO:-0500
TZNAME:EST
DTSTART:20231105T060000
END:STANDARD
BEGIN:DAYLIGHT
TZOFFSETFROM:-0500
TZOFFSETTO:-0400
TZNAME:EDT
DTSTART:20240310T070000
END:DAYLIGHT
BEGIN:STANDARD
TZOFFSETFROM:-0400
TZOFFSETTO:-0500
TZNAME:EST
DTSTART:20241103T060000
END:STANDARD
END:VTIMEZONE
BEGIN:VEVENT
DTSTART;TZID=America/New_York:20240722T083000
DTEND;TZID=America/New_York:20240722T083000
DTSTAMP:20260424T111338
CREATED:20240405T162205Z
LAST-MODIFIED:20240716T130257Z
UID:2230-1721637000-1721637000@sccwinsted.org
SUMMARY:Vacation Bible Spectatular
DESCRIPTION:Vacation Bible Spectacular\nEvent runs 7/22-26/24 – Ages 4 – teen – Registration begins on 7/22/24 Contact John Costa\, our Director of Youth and Families\, at 413-429-1079 for more information.
URL:https://sccwinsted.org/event/vacation-bible-spectatular/
LOCATION:Second Congregational Church\, 800 MAIN ST\, WINSTED\, CT\, 06098-1014\, United States
END:VEVENT
BEGIN:VEVENT
DTSTART;TZID=America/New_York:20240615T090000
DTEND;TZID=America/New_York:20240615T090000
DTSTAMP:20260424T111338
CREATED:20240317T154112Z
LAST-MODIFIED:20240317T154259Z
UID:2178-1718442000-1718442000@sccwinsted.org
SUMMARY:Book & Bake Sale
DESCRIPTION:June 15th flyer
URL:https://sccwinsted.org/event/book-bake-sale-2/
CATEGORIES:Church Events
END:VEVENT
BEGIN:VEVENT
DTSTART;TZID=America/New_York:20240425T080000
DTEND;TZID=America/New_York:20240425T170000
DTSTAMP:20260424T111338
CREATED:20240425T165212Z
LAST-MODIFIED:20240425T165212Z
UID:2255-1714032000-1714064400@sccwinsted.org
SUMMARY:National Day of Service
DESCRIPTION:Thursday\, May 2\, 2024 – Come Join us for worship at 6:00 PM
URL:https://sccwinsted.org/event/national-day-of-service/
END:VEVENT
BEGIN:VEVENT
DTSTART;TZID=America/New_York:20240326T080000
DTEND;TZID=America/New_York:20240326T170000
DTSTAMP:20260424T111338
CREATED:20240326T152422Z
LAST-MODIFIED:20240326T152422Z
UID:2223-1711440000-1711472400@sccwinsted.org
SUMMARY:Pastor Dan's Sermons (Text Form)
DESCRIPTION:Pastor Dan-Life in the Son 3-17-24 (text of sermon)
URL:https://sccwinsted.org/event/pastor-dans-sermons-text-form-2/
END:VEVENT
BEGIN:VEVENT
DTSTART;TZID=America/New_York:20240326T080000
DTEND;TZID=America/New_York:20240326T170000
DTSTAMP:20260424T111338
CREATED:20240326T152217Z
LAST-MODIFIED:20240326T152217Z
UID:2221-1711440000-1711472400@sccwinsted.org
SUMMARY:Maundy Thursday Worship Service
DESCRIPTION:Thursday\, March 28th at 6:00 PM
URL:https://sccwinsted.org/event/maundy-thursday-worship-service/
END:VEVENT
BEGIN:VEVENT
DTSTART;TZID=America/New_York:20240324T080000
DTEND;TZID=America/New_York:20240324T170000
DTSTAMP:20260424T111338
CREATED:20240324T151711Z
LAST-MODIFIED:20240324T151711Z
UID:2218-1711267200-1711299600@sccwinsted.org
SUMMARY:Pastor Dan's Sermons (Text Form)
DESCRIPTION:Pastor Dan-Life in the Son 3-17-24 (text of sermon)
URL:https://sccwinsted.org/event/pastor-dans-sermons-text-form/
END:VEVENT
BEGIN:VEVENT
DTSTART;TZID=America/New_York:20240216T080000
DTEND;TZID=America/New_York:20240216T170000
DTSTAMP:20260424T111339
CREATED:20240216T175408Z
LAST-MODIFIED:20240216T175408Z
UID:2158-1708070400-1708102800@sccwinsted.org
SUMMARY:Lenten Hymn Sing
DESCRIPTION:On Sunday\, March 17th immediately after worship\, there will be a Lenten Hymn Sing and Pot Luck luncheon. Come Join Us.
URL:https://sccwinsted.org/event/lenten-hymn-sing/
END:VEVENT
BEGIN:VEVENT
DTSTART;TZID=America/New_York:20240117T190000
DTEND;TZID=America/New_York:20240327T201500
DTSTAMP:20260424T111339
CREATED:20240109T202932Z
LAST-MODIFIED:20240109T202932Z
UID:2131-1705518000-1711570500@sccwinsted.org
SUMMARY:Wednesday Evening Book Study
DESCRIPTION:Wednesday Bible Study—Every Wednesday\, 7:00-8:15 pm (in the music room led by Pastor Dan and open to all). Beginning on January 17th\, we will work through the chapters of this excellent book\, which lays out the biblical case for the essential Christian doctrines handed down by the apostles\, which have been affirmed by Christians since the foundation of the church.  The cost of the book is $13  and they will be available on 1/7/24.  \n                        Excerpt from the back cover: Christians\, more than ever\, need a basic introduction to Bible doctrine that is systematic and true to Scripture. This book is a popular introduction to the study of Bible doctrine firmly in the evangelical tradition. Each chapter covers a biblical doctrine and stresses its doctrinal importance and inter-connectedness to formulating a Christian worldview.
URL:https://sccwinsted.org/event/wednesday-evening-book-study/
LOCATION:Second Congregational Church\, 800 MAIN ST\, WINSTED\, CT\, 06098-1014\, United States
ATTACH;FMTTYPE=image/png:https://sccwinsted.org/wp-content/uploads/2024/01/A-popular-survey.png
END:VEVENT
BEGIN:VEVENT
DTSTART;TZID=America/New_York:20231201T190000
DTEND;TZID=America/New_York:20231201T210000
DTSTAMP:20260424T111339
CREATED:20231117T160344Z
LAST-MODIFIED:20231117T160344Z
UID:2077-1701457200-1701464400@sccwinsted.org
SUMMARY:An Evening of Christmas Worship - A Christmas Concert
DESCRIPTION:Come Join Dave Pettigrew for an evening of Christmas Worship
URL:https://sccwinsted.org/event/an-evening-of-christmas-worship-a-christmas-concert/
LOCATION:Second Congregational Church\, 800 MAIN ST\, WINSTED\, CT\, 06098-1014\, United States
END:VEVENT
BEGIN:VEVENT
DTSTART;TZID=America/New_York:20231201T080000
DTEND;TZID=America/New_York:20231201T170000
DTSTAMP:20260424T111339
CREATED:20231201T161549Z
LAST-MODIFIED:20231212T193516Z
UID:2093-1701417600-1701450000@sccwinsted.org
SUMMARY:Christmas Eve Worship
DESCRIPTION:Christmas Eve 2023 \nChristmas Eve 10AM Morning worship will begin with a Children’s Pageant. \nEnjoy the beautiful display of luminaria lighting the walkways into our Traditional Christmas Eve Service beginning at 6:00 PM.
URL:https://sccwinsted.org/event/christmas-eve-worship/
END:VEVENT
BEGIN:VEVENT
DTSTART;TZID=America/New_York:20230910T090000
DTEND;TZID=America/New_York:20230910T100000
DTSTAMP:20260424T111339
CREATED:20230825T140654Z
LAST-MODIFIED:20230825T140654Z
UID:2007-1694336400-1694340000@sccwinsted.org
SUMMARY:Rally Sunday is Coming
DESCRIPTION:Rally Sunday will be held on Sunday\, September 10\, 2023 – 9:00 AM in the basement.  Sunday School Registration (ages 3 and up) and Youth Group Registration.  There will be breakfast\, singing and prayer! Come Join Us.
URL:https://sccwinsted.org/event/rally-sunday-is-coming/
LOCATION:Second Congregational Church\, 800 MAIN ST\, WINSTED\, CT\, 06098-1014\, United States
END:VEVENT
BEGIN:VEVENT
DTSTART;TZID=America/New_York:20230724T083000
DTEND;TZID=America/New_York:20230728T113000
DTSTAMP:20260424T111339
CREATED:20230609T145416Z
LAST-MODIFIED:20230609T153009Z
UID:1950-1690187400-1690543800@sccwinsted.org
SUMMARY:Vacation Bible School
DESCRIPTION:July 24-28th from 8:30 am to 11:30 am – Come Join Us for Bible stories\, games\, snacks\, songs\, science demos\, videos\, and crafts too!   Everyone is welcome! Bring your friends!  Registration form is  required – VBS Registration Form 2023 \nAges 4-Teen are welcome – donations are appreciated but optional.  ($10.00 per child/$20.00 per family).
URL:https://sccwinsted.org/event/vacation-bible-school/
LOCATION:Second Congregational Church\, 800 MAIN ST\, WINSTED\, CT\, 06098-1014\, United States
END:VEVENT
BEGIN:VEVENT
DTSTART;TZID=America/New_York:20230610T100000
DTEND;TZID=America/New_York:20230610T150000
DTSTAMP:20260424T111339
CREATED:20230420T152451Z
LAST-MODIFIED:20230420T152451Z
UID:1924-1686391200-1686409200@sccwinsted.org
SUMMARY:Book & Bake Sale
DESCRIPTION:On Saturday\, June 10th from 10 AM – 3 PM\, the church will be hosting a Book & Bake Sale.  Come purchase a favorite book and a freshly baked treat made by members of our church.
URL:https://sccwinsted.org/event/book-bake-sale/
LOCATION:Second Congregational Church\, 800 MAIN ST\, WINSTED\, CT\, 06098-1014\, United States
END:VEVENT
BEGIN:VEVENT
DTSTART;TZID=America/New_York:20230507T190000
DTEND;TZID=America/New_York:20230507T203000
DTSTAMP:20260424T111339
CREATED:20230420T152044Z
LAST-MODIFIED:20230420T152044Z
UID:1922-1683486000-1683491400@sccwinsted.org
SUMMARY:Free Contemporary Christian Concert
DESCRIPTION:This church will be hosting a free concert on Sunday\, May 7th beginning at 7:00 PM by the contemporary Christian musicians\, John Tibbs & Dave Pettigrew.  There will be a free-will offering basket available.  For more information\, see davepettigrew.net or johntibbmusic.com
URL:https://sccwinsted.org/event/free-contemporary-christian-concert/
LOCATION:Second Congregational Church\, 800 MAIN ST\, WINSTED\, CT\, 06098-1014\, United States
END:VEVENT
BEGIN:VEVENT
DTSTART;TZID=America/New_York:20230504T180000
DTEND;TZID=America/New_York:20230504T193000
DTSTAMP:20260424T111339
CREATED:20230420T151524Z
LAST-MODIFIED:20230420T151524Z
UID:1919-1683223200-1683228600@sccwinsted.org
SUMMARY:National Day of Prayer
DESCRIPTION:The Annual National Day of Prayer service will be held on Thursday\, May 4th at 6:00 PM.  It will be a time of prayer for this nation and patriotic hymns.  All are invited to attend.
URL:https://sccwinsted.org/event/national-day-of-prayer/
LOCATION:Second Congregational Church\, 800 MAIN ST\, WINSTED\, CT\, 06098-1014\, United States
END:VEVENT
BEGIN:VEVENT
DTSTART;TZID=America/New_York:20200119T120000
DTEND;TZID=America/New_York:20200119T120000
DTSTAMP:20260424T111339
CREATED:20191001T114312Z
LAST-MODIFIED:20191001T114329Z
UID:500-1579435200-1579435200@sccwinsted.org
SUMMARY:Annual Meeting
DESCRIPTION:SCC’s Annual Business Meeting will be after church starting at 12:00 PM.
URL:https://sccwinsted.org/event/annual-meeting/
END:VEVENT
BEGIN:VEVENT
DTSTART;TZID=America/New_York:20191224T180000
DTEND;TZID=America/New_York:20191224T190000
DTSTAMP:20260424T111339
CREATED:20190925T140223Z
LAST-MODIFIED:20191113T124653Z
UID:357-1577210400-1577214000@sccwinsted.org
SUMMARY:Christmas Eve Service
DESCRIPTION:A traditional Christmas Eve service of Scripture reading and hymns starting at 6:00 PM.
URL:https://sccwinsted.org/event/christmas-eve-service/
END:VEVENT
BEGIN:VEVENT
DTSTART;TZID=America/New_York:20191215T100000
DTEND;TZID=America/New_York:20191215T111500
DTSTAMP:20260424T111339
CREATED:20191016T121253Z
LAST-MODIFIED:20191016T121253Z
UID:590-1576404000-1576408500@sccwinsted.org
SUMMARY:Lessons & Carols
DESCRIPTION:During the Sunday service on December 15th will be our traditional Lessons & Carols service of Scripture reading and traditional Christian music.
URL:https://sccwinsted.org/event/lessons-carols/
END:VEVENT
BEGIN:VEVENT
DTSTART;TZID=America/New_York:20191110T113000
DTEND;TZID=America/New_York:20191110T124500
DTSTAMP:20260424T111339
CREATED:20191009T122003Z
LAST-MODIFIED:20191016T205248Z
UID:554-1573385400-1573389900@sccwinsted.org
SUMMARY:"Lunch and a Movie" after church.
DESCRIPTION:After church on November 10th\, from 11:30 AM – 12:45 PM Pastor Dan will be hosting a video presentation\, brief discussion with the movie “The Fool” by Ray Comfort. Lunch will be provided. \nAbout the movie:\n“What do you do when the world’s most famous atheist mocks you internationally on television and throughout social media? What consolation can you find when you become known worldwide as atheism’s celebrity idiot? You look to the Scriptures and take consolation in how Joseph was humiliated before the time came when God opened a big door of opportunity for him\, and how Moses was abased before God opened a big sea for him. You take comfort in knowing the principle of humiliation before promotion—that God often takes someone low before raising him up for His use. And that’s what happened when Ray Comfort was christened “Banana Man” by Professor Richard Dawkins. Millions came under the sound of the everlasting gospel\, all because of that humiliating name: Banana Man. So if you’re afraid of looking foolish\, this true story not only will encourage you and bring your fears into perspective\, it will increase your faith in God and help you to see His wonderful hand in your own life.”
URL:https://sccwinsted.org/event/movie-night-after-church/
END:VEVENT
END:VCALENDAR